BEGIN:VCALENDAR
VERSION:2.0
PRODID:-//F2F Tour | Canada&#039;s Premier MTG Series - ECPv6.15.20//NONSGML v1.0//EN
CALSCALE:GREGORIAN
METHOD:PUBLISH
X-ORIGINAL-URL:https://f2ftour.com
X-WR-CALDESC:Events for F2F Tour | Canada&#039;s Premier MTG Series
REFRESH-INTERVAL;VALUE=DURATION:PT1H
X-Robots-Tag:noindex
X-PUBLISHED-TTL:PT1H
BEGIN:VTIMEZONE
TZID:America/Toronto
BEGIN:DAYLIGHT
TZOFFSETFROM:-0500
TZOFFSETTO:-0400
TZNAME:EDT
DTSTART:20250309T070000
END:DAYLIGHT
BEGIN:STANDARD
TZOFFSETFROM:-0400
TZOFFSETTO:-0500
TZNAME:EST
DTSTART:20251102T060000
END:STANDARD
BEGIN:DAYLIGHT
TZOFFSETFROM:-0500
TZOFFSETTO:-0400
TZNAME:EDT
DTSTART:20260308T070000
END:DAYLIGHT
BEGIN:STANDARD
TZOFFSETFROM:-0400
TZOFFSETTO:-0500
TZNAME:EST
DTSTART:20261101T060000
END:STANDARD
BEGIN:DAYLIGHT
TZOFFSETFROM:-0500
TZOFFSETTO:-0400
TZNAME:EDT
DTSTART:20270314T070000
END:DAYLIGHT
BEGIN:STANDARD
TZOFFSETFROM:-0400
TZOFFSETTO:-0500
TZNAME:EST
DTSTART:20271107T060000
END:STANDARD
END:VTIMEZONE
BEGIN:VEVENT
DTSTART;TZID=America/Toronto:20260606T000000
DTEND;TZID=America/Toronto:20260606T235959
DTSTAMP:20260419T130909
CREATED:20260416T130921Z
LAST-MODIFIED:20260416T130922Z
UID:27441-1780704000-1780790399@f2ftour.com
SUMMARY:F2F Tour Sealed Qualifier – Mindgames Cataraqui (1 Invite Available)
DESCRIPTION:F2F Tour Qualifiers are events run by your local WPN game store that give out invites to the F2F Tour Championships to top players! Play Magic: the Gathering at the highest level while supporting your local game stores!
URL:https://f2ftour.com/event/f2f-tour-sealed-qualifier-mindgames-cataraqui-1-invite-available-4/
LOCATION:Mindgames Cataraqui Kingston\, 945 Gardiners Road Unit 49A\, Kingston\, Ontario\, Canada
CATEGORIES:1 Invite Available,2026-27 Round 1 RCQ
END:VEVENT
BEGIN:VEVENT
DTSTART;TZID=America/Toronto:20260613T000000
DTEND;TZID=America/Toronto:20260613T235959
DTSTAMP:20260419T130909
CREATED:20260327T170204Z
LAST-MODIFIED:20260327T170205Z
UID:27310-1781308800-1781395199@f2ftour.com
SUMMARY:F2F Tour Sealed Qualifier – Bowness Arts (4 Invites Available)
DESCRIPTION:F2F Tour Qualifiers are events run by your local WPN game store that give out invites to the F2F Tour Championships to top players! Play Magic: the Gathering at the highest level while supporting your local game stores!
URL:https://f2ftour.com/event/f2f-tour-sealed-qualifier-bowness-arts-4-invites-available/
LOCATION:Bowness Arts\, 6326 Bowness Rd NW\, Calgary\, Alberta\, T3B 0E5\, Canada
CATEGORIES:2026-27 Round 1 RCQ,4 Invites Available
END:VEVENT
BEGIN:VEVENT
DTSTART;TZID=America/Toronto:20260613T000000
DTEND;TZID=America/Toronto:20260613T235959
DTSTAMP:20260419T130909
CREATED:20260327T172636Z
LAST-MODIFIED:20260327T172636Z
UID:27334-1781308800-1781395199@f2ftour.com
SUMMARY:F2F Tour Modern Qualifier – Atlas Collectibles (4 Invites Available)
DESCRIPTION:F2F Tour Qualifiers are events run by your local WPN game store that give out invites to the F2F Tour Championships to top players! Play Magic: the Gathering at the highest level while supporting your local game stores!
URL:https://f2ftour.com/event/f2f-tour-modern-qualifier-atlas-collectibles-4-invites-available-2/
LOCATION:Atlas Collectables\, 354 King St N\, Waterloo\, Ontario\, N2J 2Z2\, Canada
CATEGORIES:2026-27 Round 1 RCQ,4 Invites Available
END:VEVENT
BEGIN:VEVENT
DTSTART;TZID=America/Toronto:20260614T000000
DTEND;TZID=America/Toronto:20260614T235959
DTSTAMP:20260419T130909
CREATED:20260401T180503Z
LAST-MODIFIED:20260401T180504Z
UID:27401-1781395200-1781481599@f2ftour.com
SUMMARY:F2F Tour Modern Qualifier – Chimera Gaming (4 Invites Available)
DESCRIPTION:F2F Tour Qualifiers are events run by your local WPN game store that give out invites to the F2F Tour Championships to top players! Play Magic: the Gathering at the highest level while supporting your local game stores!
URL:https://f2ftour.com/event/f2f-tour-modern-qualifier-chimera-gaming-4-invites-available-4/
LOCATION:Chimera Gaming\, 700 Strasburg rd unit 31\, Kitchener\, Ontario\, N2E 2M2\, Canada
CATEGORIES:2026-27 Round 1 RCQ,4 Invites Available
END:VEVENT
BEGIN:VEVENT
DTSTART;TZID=America/Toronto:20260627T000000
DTEND;TZID=America/Toronto:20260627T235959
DTSTAMP:20260419T130909
CREATED:20260327T153043Z
LAST-MODIFIED:20260410T201250Z
UID:27258-1782518400-1782604799@f2ftour.com
SUMMARY:F2F Tour Modern Qualifier – Exor Games (4 Invites Available)
DESCRIPTION:F2F Tour Qualifiers are events run by your local WPN game store that give out invites to the F2F Tour Championships to top players! Play Magic: the Gathering at the highest level while supporting your local game stores!
URL:https://f2ftour.com/event/f2f-tour-modern-qualifier-exor-games-4-invites-available/
LOCATION:Exor Games\, 51 Allen Street\, Charlottetown\, Prince Edward Island\, C1A 2V6\, Canada
CATEGORIES:2026-27 Round 1 RCQ,4 Invites Available
END:VEVENT
BEGIN:VEVENT
DTSTART;TZID=America/Toronto:20260627T000000
DTEND;TZID=America/Toronto:20260627T235959
DTSTAMP:20260419T130909
CREATED:20260327T155756Z
LAST-MODIFIED:20260327T155758Z
UID:27290-1782518400-1782604799@f2ftour.com
SUMMARY:F2F Tour Sealed Qualifier – Wizard's Tower (4 Invites Available)
DESCRIPTION:F2F Tour Qualifiers are events run by your local WPN game store that give out invites to the F2F Tour Championships to top players! Play Magic: the Gathering at the highest level while supporting your local game stores!
URL:https://f2ftour.com/event/f2f-tour-sealed-qualifier-wizards-tower-4-invites-available/
LOCATION:Wizard’s Tower\, 1-80 Marketplace Ave\, Ottawa\, Ontario\, K2J 5G3\, Canada
CATEGORIES:2026-27 Round 1 RCQ,4 Invites Available
END:VEVENT
BEGIN:VEVENT
DTSTART;TZID=America/Toronto:20260627T000000
DTEND;TZID=America/Toronto:20260627T235959
DTSTAMP:20260419T130909
CREATED:20260327T160129Z
LAST-MODIFIED:20260327T160130Z
UID:27294-1782518400-1782604799@f2ftour.com
SUMMARY:F2F Tour Sealed Qualifier – Skies the Limit Fireworks & Toys (1 Invite Available)
DESCRIPTION:F2F Tour Qualifiers are events run by your local WPN game store that give out invites to the F2F Tour Championships to top players! Play Magic: the Gathering at the highest level while supporting your local game stores!
URL:https://f2ftour.com/event/f2f-tour-sealed-qualifier-skies-the-limit-fireworks-toys-1-invite-available-2/
LOCATION:Skies the Limit Fireworks & Toys\, 32 Betts Ave\, Yorkton\, Saskatchewan\, S3N 1J6\, Canada
CATEGORIES:1 Invite Available,2026-27 Round 1 RCQ
END:VEVENT
BEGIN:VEVENT
DTSTART;TZID=America/Toronto:20260627T000000
DTEND;TZID=America/Toronto:20260627T235959
DTSTAMP:20260419T130909
CREATED:20260401T152804Z
LAST-MODIFIED:20260401T152805Z
UID:27365-1782518400-1782604799@f2ftour.com
SUMMARY:F2F Tour Modern Qualifier – Dungeon Comics & Cards (4 Invites Available)
DESCRIPTION:F2F Tour Qualifiers are events run by your local WPN game store that give out invites to the F2F Tour Championships to top players! Play Magic: the Gathering at the highest level while supporting your local game stores!
URL:https://f2ftour.com/event/f2f-tour-modern-qualifier-dungeon-comics-cards-4-invites-available/
LOCATION:Dungeon Comics & Cards Oakville\, 447 Speers Rd\, Oakville\, Ontario\, L6K 3S7\, Canada
CATEGORIES:2026-27 Round 1 RCQ,4 Invites Available
END:VEVENT
BEGIN:VEVENT
DTSTART;TZID=America/Toronto:20260704T000000
DTEND;TZID=America/Toronto:20260704T235959
DTSTAMP:20260419T130909
CREATED:20260327T161528Z
LAST-MODIFIED:20260327T161529Z
UID:27300-1783123200-1783209599@f2ftour.com
SUMMARY:F2F Tour Sealed Qualifier – Hairy Tarantula (4 Invites Available)
DESCRIPTION:F2F Tour Qualifiers are events run by your local WPN game store that give out invites to the F2F Tour Championships to top players! Play Magic: the Gathering at the highest level while supporting your local game stores!
URL:https://f2ftour.com/event/f2f-tour-sealed-qualifier-hairy-tarantula-4-invites-available-4/
LOCATION:Hairy Tarantula\, 3456 Yonge St\, Toronto\, Ontario\, M4N 2N4\, Canada
CATEGORIES:2026-27 Round 1 RCQ,4 Invites Available
END:VEVENT
BEGIN:VEVENT
DTSTART;TZID=America/Toronto:20260704T000000
DTEND;TZID=America/Toronto:20260704T235959
DTSTAMP:20260419T130909
CREATED:20260401T153526Z
LAST-MODIFIED:20260401T153527Z
UID:27373-1783123200-1783209599@f2ftour.com
SUMMARY:F2F Tour Modern Qualifier – Game Master's Emporium (1 Invite Available)
DESCRIPTION:F2F Tour Qualifiers are events run by your local WPN game store that give out invites to the F2F Tour Championships to top players! Play Magic: the Gathering at the highest level while supporting your local game stores!
URL:https://f2ftour.com/event/f2f-tour-modern-qualifier-game-masters-emporium-1-invite-available/
LOCATION:Game Master’s Emporium\, 55 St Clair St\, Chatham\, Ontario\, N7L 3H8
CATEGORIES:1 Invite Available,2026-27 Round 1 RCQ
END:VEVENT
BEGIN:VEVENT
DTSTART;TZID=America/Toronto:20260704T000000
DTEND;TZID=America/Toronto:20260704T235959
DTSTAMP:20260419T130909
CREATED:20260401T154747Z
LAST-MODIFIED:20260401T154859Z
UID:27379-1783123200-1783209599@f2ftour.com
SUMMARY:F2F Tour Modern Qualifier – Desert City Games (4 Invites Available)
DESCRIPTION:F2F Tour Qualifiers are events run by your local WPN game store that give out invites to the F2F Tour Championships to top players! Play Magic: the Gathering at the highest level while supporting your local game stores!
URL:https://f2ftour.com/event/f2f-tour-modern-qualifier-magic-stronghold-games-4-invites-available/
LOCATION:Desert City Games\, 171 Leigh Rd\, Kamloops\, British Columbia\, V2B 2L7
CATEGORIES:2026-27 Round 1 RCQ,4 Invites Available
ORGANIZER;CN="Desert City Games":MAILTO:info@desertcitygames.ca
END:VEVENT
BEGIN:VEVENT
DTSTART;TZID=America/Toronto:20260711T000000
DTEND;TZID=America/Toronto:20260711T235959
DTSTAMP:20260419T130909
CREATED:20260327T152842Z
LAST-MODIFIED:20260327T152843Z
UID:27254-1783728000-1783814399@f2ftour.com
SUMMARY:F2F Tour Sealed Qualifier – Flawless Victory (1 Invite Available)
DESCRIPTION:F2F Tour Qualifiers are events run by your local WPN game store that give out invites to the F2F Tour Championships to top players! Play Magic: the Gathering at the highest level while supporting your local game stores!
URL:https://f2ftour.com/event/f2f-tour-sealed-qualifier-flawless-victory-1-invite-available-3/
LOCATION:Flawless Victory\, 2805 6 Ave East Unit 106\, Prince Albert\, Saskatchewan\, Canada
CATEGORIES:1 Invite Available,2026-27 Round 1 RCQ
END:VEVENT
BEGIN:VEVENT
DTSTART;TZID=America/Toronto:20260711T000000
DTEND;TZID=America/Toronto:20260711T235959
DTSTAMP:20260419T130909
CREATED:20260327T154010Z
LAST-MODIFIED:20260327T154011Z
UID:27265-1783728000-1783814399@f2ftour.com
SUMMARY:F2F Tour Sealed Qualifier – Screen Free Games Seven Oaks (1 Invite Available)
DESCRIPTION:
URL:https://f2ftour.com/event/f2f-tour-sealed-qualifier-screen-free-games-seven-oaks-1-invite-available/
LOCATION:Screen Free Games Abbotsford\, #113 32900 South Fraser Way\, Abbotsford\, British Columbia\, Canada
CATEGORIES:1 Invite Available,2026-27 Round 1 RCQ
END:VEVENT
BEGIN:VEVENT
DTSTART;TZID=America/Toronto:20260711T000000
DTEND;TZID=America/Toronto:20260711T235959
DTSTAMP:20260419T130909
CREATED:20260416T131408Z
LAST-MODIFIED:20260416T131409Z
UID:27443-1783728000-1783814399@f2ftour.com
SUMMARY:F2F Tour Sealed Qualifier – Jack's on Queen (1 Invite Available)
DESCRIPTION:F2F Tour Qualifiers are events run by your local WPN game store that give out invites to the F2F Tour Championships to top players! Play Magic: the Gathering at the highest level while supporting your local game stores!
URL:https://f2ftour.com/event/f2f-tour-sealed-qualifier-jacks-on-queen-1-invite-available/
LOCATION:Jack’s on Queen\, 18 Queen Street West\, Elmvale\, ON\, L0L 1P0\, Canada
CATEGORIES:1 Invite Available,2026-27 Round 1 RCQ
ORGANIZER;CN="Jack's on Queen":MAILTO:nfo@jacksonqueen.ca
END:VEVENT
BEGIN:VEVENT
DTSTART;TZID=America/Toronto:20260712T000000
DTEND;TZID=America/Toronto:20260712T235959
DTSTAMP:20260419T130909
CREATED:20260401T180516Z
LAST-MODIFIED:20260401T180517Z
UID:27400-1783814400-1783900799@f2ftour.com
SUMMARY:F2F Tour Modern Qualifier – Chimera Gaming (4 Invites Available)
DESCRIPTION:F2F Tour Qualifiers are events run by your local WPN game store that give out invites to the F2F Tour Championships to top players! Play Magic: the Gathering at the highest level while supporting your local game stores!
URL:https://f2ftour.com/event/f2f-tour-modern-qualifier-chimera-gaming-4-invites-available-5/
LOCATION:Chimera Gaming\, 700 Strasburg rd unit 31\, Kitchener\, Ontario\, N2E 2M2\, Canada
CATEGORIES:2026-27 Round 1 RCQ,4 Invites Available
END:VEVENT
BEGIN:VEVENT
DTSTART;TZID=America/Toronto:20260717T000000
DTEND;TZID=America/Toronto:20260717T235959
DTSTAMP:20260419T130909
CREATED:20260416T132042Z
LAST-MODIFIED:20260416T132043Z
UID:27449-1784246400-1784332799@f2ftour.com
SUMMARY:F2F Tour Modern Qualifier – Spoutnik Gaspésie (1 Invite Available)
DESCRIPTION:F2F Tour Qualifiers are events run by your local WPN game store that give out invites to the F2F Tour Championships to top players! Play Magic: the Gathering at the highest level while supporting your local game stores!
URL:https://f2ftour.com/event/f2f-tour-modern-qualifier-spoutnik-gaspesie-1-invite-available/
LOCATION:Spoutnik Gaspésie\, 45 Bd Pabos #1B\, Pabos\, Quebec\, G0C 2H0\, Canada
CATEGORIES:1 Invite Available,2026-27 Round 1 RCQ
END:VEVENT
BEGIN:VEVENT
DTSTART;TZID=America/Toronto:20260718T000000
DTEND;TZID=America/Toronto:20260718T235959
DTSTAMP:20260419T130909
CREATED:20260327T172452Z
LAST-MODIFIED:20260327T172453Z
UID:27330-1784332800-1784419199@f2ftour.com
SUMMARY:F2F Tour Modern Qualifier – Atlas Collectibles (1 Invite Available)
DESCRIPTION:F2F Tour Qualifiers are events run by your local WPN game store that give out invites to the F2F Tour Championships to top players! Play Magic: the Gathering at the highest level while supporting your local game stores!
URL:https://f2ftour.com/event/f2f-tour-modern-qualifier-atlas-collectibles-1-invite-available-2/
LOCATION:Atlas Collectables\, 354 King St N\, Waterloo\, Ontario\, N2J 2Z2\, Canada
CATEGORIES:1 Invite Available,2026-27 Round 1 RCQ
END:VEVENT
BEGIN:VEVENT
DTSTART;TZID=America/Toronto:20260725T000000
DTEND;TZID=America/Toronto:20260725T235959
DTSTAMP:20260419T130909
CREATED:20260327T173236Z
LAST-MODIFIED:20260327T173237Z
UID:27338-1784937600-1785023999@f2ftour.com
SUMMARY:F2F Tour Modern Qualifier – Event Horizon Hobbies (1 Invite Available)
DESCRIPTION:F2F Tour Qualifiers are events run by your local WPN game store that give out invites to the F2F Tour Championships to top players! Play Magic: the Gathering at the highest level while supporting your local game stores!
URL:https://f2ftour.com/event/f2f-tour-modern-qualifier-event-horizon-hobbies-1-invite-available/
LOCATION:Event Horizon Hobbies\, 845 King Street\, Unit 7-9\, Midland\, Ontario\, L4R 0B7\, Canada
CATEGORIES:1 Invite Available,2026-27 Round 1 RCQ
END:VEVENT
BEGIN:VEVENT
DTSTART;TZID=America/Toronto:20260725T000000
DTEND;TZID=America/Toronto:20260725T235959
DTSTAMP:20260419T130909
CREATED:20260416T125950Z
LAST-MODIFIED:20260416T130016Z
UID:27426-1784937600-1785023999@f2ftour.com
SUMMARY:F2F Tour Modern Qualifier – RAD GameShop (1 Invite Available)
DESCRIPTION:F2F Tour Qualifiers are events run by your local WPN game store that give out invites to the F2F Tour Championships to top players! Play Magic: the Gathering at the highest level while supporting your local game stores!
URL:https://f2ftour.com/event/f2f-tour-modern-qualifier-bowness-arts-1-invite-available-2/
LOCATION:RAD GameShop\, 25 Main St W\, Kingsville\, N9Y 1H2\, Canada
CATEGORIES:1 Invite Available,2026-27 Round 1 RCQ
ORGANIZER;CN="RAD GameShop":MAILTO:radgameshop@gmail.com
END:VEVENT
BEGIN:VEVENT
DTSTART;TZID=America/Toronto:20260801T000000
DTEND;TZID=America/Toronto:20260801T235959
DTSTAMP:20260419T130909
CREATED:20260327T152743Z
LAST-MODIFIED:20260327T152743Z
UID:27252-1785542400-1785628799@f2ftour.com
SUMMARY:F2F Tour Sealed Qualifier – ParadoxTCG (1 Invite Available)
DESCRIPTION:F2F Tour Qualifiers are events run by your local WPN game store that give out invites to the F2F Tour Championships to top players! Play Magic: the Gathering at the highest level while supporting your local game stores!
URL:https://f2ftour.com/event/f2f-tour-sealed-qualifier-paradoxtcg-1-invite-available/
LOCATION:Paradox TCG\, 1354 Barton St E\, Hamilton\, Ontario\, L8H 2W3\, Canada
CATEGORIES:1 Invite Available,2026-27 Round 1 RCQ
END:VEVENT
BEGIN:VEVENT
DTSTART;TZID=America/Toronto:20260801T000000
DTEND;TZID=America/Toronto:20260801T235959
DTSTAMP:20260419T130909
CREATED:20260327T170341Z
LAST-MODIFIED:20260327T170342Z
UID:27314-1785542400-1785628799@f2ftour.com
SUMMARY:F2F Tour Modern Qualifier – Bowness Arts (1 Invite Available)
DESCRIPTION:F2F Tour Qualifiers are events run by your local WPN game store that give out invites to the F2F Tour Championships to top players! Play Magic: the Gathering at the highest level while supporting your local game stores!
URL:https://f2ftour.com/event/f2f-tour-modern-qualifier-bowness-arts-1-invite-available/
LOCATION:Bowness Arts\, 6326 Bowness Rd NW\, Calgary\, Alberta\, T3B 0E5\, Canada
CATEGORIES:1 Invite Available,2026-27 Round 1 RCQ
END:VEVENT
BEGIN:VEVENT
DTSTART;TZID=America/Toronto:20260801T000000
DTEND;TZID=America/Toronto:20260801T235959
DTSTAMP:20260419T130909
CREATED:20260327T170639Z
LAST-MODIFIED:20260327T170640Z
UID:27316-1785542400-1785628799@f2ftour.com
SUMMARY:F2F Tour Modern Qualifier – Dark Fox (4 Invites Available)
DESCRIPTION:F2F Tour Qualifiers are events run by your local WPN game store that give out invites to the F2F Tour Championships to top players! Play Magic: the Gathering at the highest level while supporting your local game stores!
URL:https://f2ftour.com/event/f2f-tour-modern-qualifier-dark-fox-4-invites-available/
LOCATION:Dark Fox TCG\, 5 - 730 Upper James St.\, Hamilton\, Ontario\, L9C 2Z9\, Canada
CATEGORIES:2026-27 Round 1 RCQ,4 Invites Available
ORGANIZER;CN="Dark Fox TCG":MAILTO:darkfoxtcg@gmail.com
END:VEVENT
BEGIN:VEVENT
DTSTART;TZID=America/Toronto:20260801T000000
DTEND;TZID=America/Toronto:20260801T235959
DTSTAMP:20260419T130909
CREATED:20260401T153156Z
LAST-MODIFIED:20260401T153156Z
UID:27367-1785542400-1785628799@f2ftour.com
SUMMARY:F2F Tour Modern Qualifier – Dungeon Comics & Cards (1 Invite Available)
DESCRIPTION:F2F Tour Qualifiers are events run by your local WPN game store that give out invites to the F2F Tour Championships to top players! Play Magic: the Gathering at the highest level while supporting your local game stores!
URL:https://f2ftour.com/event/f2f-tour-modern-qualifier-dungeon-comics-cards-1-invite-available/
LOCATION:Dungeon Comics & Cards Oakville\, 447 Speers Rd\, Oakville\, Ontario\, L6K 3S7\, Canada
CATEGORIES:1 Invite Available,2026-27 Round 1 RCQ
END:VEVENT
BEGIN:VEVENT
DTSTART;TZID=America/Toronto:20260802T000000
DTEND;TZID=America/Toronto:20260802T235959
DTSTAMP:20260419T130909
CREATED:20260401T180536Z
LAST-MODIFIED:20260401T180537Z
UID:27399-1785628800-1785715199@f2ftour.com
SUMMARY:F2F Tour Modern Qualifier – Chimera Gaming (4 Invites Available)
DESCRIPTION:F2F Tour Qualifiers are events run by your local WPN game store that give out invites to the F2F Tour Championships to top players! Play Magic: the Gathering at the highest level while supporting your local game stores!
URL:https://f2ftour.com/event/f2f-tour-modern-qualifier-chimera-gaming-4-invites-available-6/
LOCATION:Chimera Gaming\, 700 Strasburg rd unit 31\, Kitchener\, Ontario\, N2E 2M2\, Canada
CATEGORIES:2026-27 Round 1 RCQ,4 Invites Available
END:VEVENT
BEGIN:VEVENT
DTSTART;TZID=America/Toronto:20260802T000000
DTEND;TZID=America/Toronto:20260802T235959
DTSTAMP:20260419T130909
CREATED:20260401T181839Z
LAST-MODIFIED:20260401T181840Z
UID:27408-1785628800-1785715199@f2ftour.com
SUMMARY:F2F Tour Modern Qualifier – 401 Games Downtown (4 Invites Available)
DESCRIPTION:F2F Tour Qualifiers are events run by your local WPN game store that give out invites to the F2F Tour Championships to top players! Play Magic: the Gathering at the highest level while supporting your local game stores!
URL:https://f2ftour.com/event/f2f-tour-modern-qualifier-401-games-downtown-4-invites-available/
LOCATION:401 Games Downtown\, 431 Yonge St\, Toronto\, Ontario\, M5B 1T3\, Canada
CATEGORIES:2026-27 Round 1 RCQ,4 Invites Available
END:VEVENT
END:VCALENDAR