BEGIN:VCALENDAR
VERSION:2.0
PRODID:-//F2F Tour | Canada&#039;s Premier MTG Series - ECPv6.15.20//NONSGML v1.0//EN
CALSCALE:GREGORIAN
METHOD:PUBLISH
X-WR-CALNAME:F2F Tour | Canada&#039;s Premier MTG Series
X-ORIGINAL-URL:https://f2ftour.com
X-WR-CALDESC:Events for F2F Tour | Canada&#039;s Premier MTG Series
REFRESH-INTERVAL;VALUE=DURATION:PT1H
X-Robots-Tag:noindex
X-PUBLISHED-TTL:PT1H
BEGIN:VTIMEZONE
TZID:America/Toronto
BEGIN:DAYLIGHT
TZOFFSETFROM:-0500
TZOFFSETTO:-0400
TZNAME:EDT
DTSTART:20250309T070000
END:DAYLIGHT
BEGIN:STANDARD
TZOFFSETFROM:-0400
TZOFFSETTO:-0500
TZNAME:EST
DTSTART:20251102T060000
END:STANDARD
BEGIN:DAYLIGHT
TZOFFSETFROM:-0500
TZOFFSETTO:-0400
TZNAME:EDT
DTSTART:20260308T070000
END:DAYLIGHT
BEGIN:STANDARD
TZOFFSETFROM:-0400
TZOFFSETTO:-0500
TZNAME:EST
DTSTART:20261101T060000
END:STANDARD
BEGIN:DAYLIGHT
TZOFFSETFROM:-0500
TZOFFSETTO:-0400
TZNAME:EDT
DTSTART:20270314T070000
END:DAYLIGHT
BEGIN:STANDARD
TZOFFSETFROM:-0400
TZOFFSETTO:-0500
TZNAME:EST
DTSTART:20271107T060000
END:STANDARD
END:VTIMEZONE
BEGIN:VEVENT
DTSTART;TZID=America/Toronto:20260510T000000
DTEND;TZID=America/Toronto:20260510T235959
DTSTAMP:20260419T094522
CREATED:20260312T182008Z
LAST-MODIFIED:20260312T182009Z
UID:27220-1778371200-1778457599@f2ftour.com
SUMMARY:F2F Tour Standard Qualifier - Face to Face Games Toronto (4 Invites Available) Round 12 LCQ
DESCRIPTION:F2F Tour Last Chance Qualifiers (LCQs) are events run by your local WPN game store that give out invites to the F2F Tour Regional Championships to top players! Play Magic: the Gathering at the highest level while supporting your local game stores!
URL:https://f2ftour.com/event/f2f-tour-standard-qualifier-face-to-face-games-toronto-4-invites-available-round-12-lcq/
LOCATION:Face to Face Games Toronto\, 1398 Danforth Ave\, Toronto\, Ontario\, M4J 1M9\, Canada
CATEGORIES:4 Invites Available,Round 12 LCQ
ORGANIZER;CN="Face to Face Games Toronto":MAILTO:events@facetofacegames.com
END:VEVENT
BEGIN:VEVENT
DTSTART;TZID=America/Toronto:20260510T000000
DTEND;TZID=America/Toronto:20260510T235959
DTSTAMP:20260419T094522
CREATED:20260312T182112Z
LAST-MODIFIED:20260312T182113Z
UID:27222-1778371200-1778457599@f2ftour.com
SUMMARY:F2F Tour Standard Qualifier - Jeux Face a Face (4 Invites Available) Round 12 LCQ
DESCRIPTION:F2F Tour Last Chance Qualifiers (LCQs) are events run by your local WPN game store that give out invites to the F2F Tour Regional Championships to top players! Play Magic: the Gathering at the highest level while supporting your local game stores!
URL:https://f2ftour.com/event/f2f-tour-standard-qualifier-jeux-face-a-face-4-invites-available-round-12-lcq/
LOCATION:Jeux Face à Face Montréal\, 4425 Wellington St\, Montréal\, Quebec\, H4G 1W6\, Canada
CATEGORIES:4 Invites Available,Round 12 LCQ
ORGANIZER;CN="Jeux Face %C3%A0 Face Montr%C3%A9al":MAILTO:events@facetofacegames.com
END:VEVENT
BEGIN:VEVENT
DTSTART;TZID=America/Toronto:20260512T000000
DTEND;TZID=America/Toronto:20260512T235959
DTSTAMP:20260419T094522
CREATED:20260327T171746Z
LAST-MODIFIED:20260327T171747Z
UID:27320-1778544000-1778630399@f2ftour.com
SUMMARY:F2F Tour Sealed Qualifier – Good Times Games (1 Invite Available)
DESCRIPTION:F2F Tour Qualifiers are events run by your local WPN game store that give out invites to the F2F Tour Championships to top players! Play Magic: the Gathering at the highest level while supporting your local game stores!
URL:https://f2ftour.com/event/f2f-tour-sealed-qualifier-good-times-games-1-invite-available-2/
LOCATION:Good Times Games and Electronics\, 302 2nd Ave West\, Prince Rupert\, British Columbia\, V8J 1G6\, Canada
CATEGORIES:1 Invite Available,2026-27 Round 1 RCQ
END:VEVENT
BEGIN:VEVENT
DTSTART;TZID=America/Toronto:20260516T000000
DTEND;TZID=America/Toronto:20260516T235959
DTSTAMP:20260419T094522
CREATED:20260327T170244Z
LAST-MODIFIED:20260327T170244Z
UID:27312-1778889600-1778975999@f2ftour.com
SUMMARY:F2F Tour Modern Qualifier – Bowness Arts (4 Invites Available)
DESCRIPTION:F2F Tour Qualifiers are events run by your local WPN game store that give out invites to the F2F Tour Championships to top players! Play Magic: the Gathering at the highest level while supporting your local game stores!
URL:https://f2ftour.com/event/f2f-tour-modern-qualifier-bowness-arts-4-invites-available/
LOCATION:Bowness Arts\, 6326 Bowness Rd NW\, Calgary\, Alberta\, T3B 0E5\, Canada
CATEGORIES:2026-27 Round 1 RCQ,4 Invites Available
END:VEVENT
BEGIN:VEVENT
DTSTART;TZID=America/Toronto:20260516T000000
DTEND;TZID=America/Toronto:20260516T235959
DTSTAMP:20260419T094522
CREATED:20260327T170802Z
LAST-MODIFIED:20260327T170803Z
UID:27318-1778889600-1778975999@f2ftour.com
SUMMARY:F2F Tour Modern Qualifier – The Game Hub (4 Invites Available)
DESCRIPTION:F2F Tour Qualifiers are events run by your local WPN game store that give out invites to the F2F Tour Championships to top players! Play Magic: the Gathering at the highest level while supporting your local game stores!
URL:https://f2ftour.com/event/f2f-tour-modern-qualifier-the-game-hub-4-invites-available/
LOCATION:The Game Hub\, 1304 Battle St\, Kamloops\, British Columbia\, Canada
CATEGORIES:2026-27 Round 1 RCQ,4 Invites Available
END:VEVENT
BEGIN:VEVENT
DTSTART;TZID=America/Toronto:20260522T000000
DTEND;TZID=America/Toronto:20260522T235959
DTSTAMP:20260419T094522
CREATED:20260327T180544Z
LAST-MODIFIED:20260327T180545Z
UID:27356-1779408000-1779494399@f2ftour.com
SUMMARY:F2F Tour Modern Qualifier – Skyhaven Games Inc. (1 Invite Available)
DESCRIPTION:F2F Tour Qualifiers are events run by your local WPN game store that give out invites to the F2F Tour Championships to top players! Play Magic: the Gathering at the highest level while supporting your local game stores!
URL:https://f2ftour.com/event/f2f-tour-modern-qualifier-skyhaven-games-inc-1-invite-available/
LOCATION:Skyhaven Games\, 3458 Tillicum Rd\, Victoria\, British Columbia\, V8Z 4H3\, Canada
CATEGORIES:1 Invite Available,2026-27 Round 1 RCQ
END:VEVENT
BEGIN:VEVENT
DTSTART;TZID=America/Toronto:20260523T000000
DTEND;TZID=America/Toronto:20260523T235959
DTSTAMP:20260419T094522
CREATED:20260327T154649Z
LAST-MODIFIED:20260327T154649Z
UID:27272-1779494400-1779580799@f2ftour.com
SUMMARY:F2F Tour Sealed Qualifier – Screen Free Games Lansdowne (1 Invite Available)
DESCRIPTION:F2F Tour Qualifiers are events run by your local WPN game store that give out invites to the F2F Tour Championships to top players! Play Magic: the Gathering at the highest level while supporting your local game stores!
URL:https://f2ftour.com/event/f2f-tour-sealed-qualifier-screen-free-games-lansdowne-1-invite-available/
LOCATION:Screen Free Games Lansdowne\, 5300 Number 3 Rd unit 978\, Richmond\, British Columbia\, V6X 2X9\, Canada
CATEGORIES:1 Invite Available,2026-27 Round 1 RCQ
END:VEVENT
BEGIN:VEVENT
DTSTART;TZID=America/Toronto:20260523T000000
DTEND;TZID=America/Toronto:20260523T235959
DTSTAMP:20260419T094522
CREATED:20260327T170009Z
LAST-MODIFIED:20260327T170010Z
UID:27304-1779494400-1779580799@f2ftour.com
SUMMARY:F2F Tour Sealed Qualifier – Comic Alley Miramichi (1 Invite Available)
DESCRIPTION:F2F Tour Qualifiers are events run by your local WPN game store that give out invites to the F2F Tour Championships to top players! Play Magic: the Gathering at the highest level while supporting your local game stores!
URL:https://f2ftour.com/event/f2f-tour-sealed-qualifier-comic-alley-miramichi-1-invite-available/
LOCATION:Comic Alley Miramichi\, 1753 Water St\, Miramichi\, New Brunswick\, E1N 1B2\, Canada
CATEGORIES:1 Invite Available,2026-27 Round 1 RCQ
END:VEVENT
BEGIN:VEVENT
DTSTART;TZID=America/Toronto:20260523T000000
DTEND;TZID=America/Toronto:20260523T235959
DTSTAMP:20260419T094522
CREATED:20260327T172409Z
LAST-MODIFIED:20260327T172410Z
UID:27328-1779494400-1779580799@f2ftour.com
SUMMARY:F2F Tour Modern Qualifier – Atlas Collectibles (1 Invite Available)
DESCRIPTION:F2F Tour Qualifiers are events run by your local WPN game store that give out invites to the F2F Tour Championships to top players! Play Magic: the Gathering at the highest level while supporting your local game stores!
URL:https://f2ftour.com/event/f2f-tour-modern-qualifier-atlas-collectibles-1-invite-available/
LOCATION:Atlas Collectables\, 354 King St N\, Waterloo\, Ontario\, N2J 2Z2\, Canada
CATEGORIES:1 Invite Available,2026-27 Round 1 RCQ
END:VEVENT
BEGIN:VEVENT
DTSTART;TZID=America/Toronto:20260523T000000
DTEND;TZID=America/Toronto:20260523T235959
DTSTAMP:20260419T094522
CREATED:20260401T153703Z
LAST-MODIFIED:20260401T153704Z
UID:27375-1779494400-1779580799@f2ftour.com
SUMMARY:F2F Tour Modern Qualifier – Midgard Gaming (4 Invites Available)
DESCRIPTION:F2F Tour Qualifiers are events run by your local WPN game store that give out invites to the F2F Tour Championships to top players! Play Magic: the Gathering at the highest level while supporting your local game stores!
URL:https://f2ftour.com/event/f2f-tour-modern-qualifier-midgard-gaming-4-invites-available/
LOCATION:Midgard Gaming\, 7 Commonwealth Ave\, Mount Pearl\, Newfoundland\, A1N 1W3\, Canada
CATEGORIES:2026-27 Round 1 RCQ,4 Invites Available
END:VEVENT
BEGIN:VEVENT
DTSTART;TZID=America/Toronto:20260523T000000
DTEND;TZID=America/Toronto:20260523T235959
DTSTAMP:20260419T094522
CREATED:20260416T125502Z
LAST-MODIFIED:20260416T125504Z
UID:27424-1779494400-1779580799@f2ftour.com
SUMMARY:F2F Tour Modern Qualifier – Taps Games (4 Invites Available)
DESCRIPTION:F2F Tour Qualifiers are events run by your local WPN game store that give out invites to the F2F Tour Championships to top players! Play Magic: the Gathering at the highest level while supporting your local game stores!
URL:https://f2ftour.com/event/f2f-tour-modern-qualifier-taps-games-4-invites-available/
LOCATION:Taps Games\, 2854 Calgary Trail NW\, Edmonton\, Alberta\, T6J 6V7\, Canada
CATEGORIES:2026-27 Round 1 RCQ,4 Invites Available
END:VEVENT
BEGIN:VEVENT
DTSTART;TZID=America/Toronto:20260523T000000
DTEND;TZID=America/Toronto:20260523T235959
DTSTAMP:20260419T094522
CREATED:20260416T130635Z
LAST-MODIFIED:20260416T130636Z
UID:27433-1779494400-1779580799@f2ftour.com
SUMMARY:F2F Tour Modern Qualifier – Merchant's Inventory (1 Invite Available)
DESCRIPTION:F2F Tour Qualifiers are events run by your local WPN game store that give out invites to the F2F Tour Championships to top players! Play Magic: the Gathering at the highest level while supporting your local game stores!
URL:https://f2ftour.com/event/f2f-tour-modern-qualifier-merchants-inventory-1-invite-available/
LOCATION:Merchant’s Shop\, 405 rue MacDonald\, Suite 1\, NB\, E2A 5A6\, Canada
CATEGORIES:1 Invite Available,2026-27 Round 1 RCQ
ORGANIZER;CN="Merchant's Shop":MAILTO:sales@merchantsinventory.ca
END:VEVENT
BEGIN:VEVENT
DTSTART;TZID=America/Toronto:20260524T000000
DTEND;TZID=America/Toronto:20260524T235959
DTSTAMP:20260419T094522
CREATED:20260327T173751Z
LAST-MODIFIED:20260327T173752Z
UID:27346-1779580800-1779667199@f2ftour.com
SUMMARY:F2F Tour Sealed Qualifier – Jeux Face a Face (4 Invites Available)
DESCRIPTION:F2F Tour Qualifiers are events run by your local WPN game store that give out invites to the F2F Tour Championships to top players! Play Magic: the Gathering at the highest level while supporting your local game stores!
URL:https://f2ftour.com/event/f2f-tour-sealed-qualifier-jeux-face-a-face-4-invites-available-2/
LOCATION:Jeux Face a Face Montreal\, 4425 Wellington St\, Montreal\, Quebec\, H4G 1W6\, Canada
CATEGORIES:2026-27 Round 1 RCQ,4 Invites Available
ORGANIZER;CN="Jeux Face %C3%A0 Face Montr%C3%A9al":MAILTO:events@facetofacegames.com
END:VEVENT
BEGIN:VEVENT
DTSTART;TZID=America/Toronto:20260524T000000
DTEND;TZID=America/Toronto:20260524T235959
DTSTAMP:20260419T094522
CREATED:20260327T174125Z
LAST-MODIFIED:20260327T174126Z
UID:27350-1779580800-1779667199@f2ftour.com
SUMMARY:F2F Tour Sealed Qualifier – Face to Face Games Toronto (4 Invites Available)
DESCRIPTION:F2F Tour Qualifiers are events run by your local WPN game store that give out invites to the F2F Tour Championships to top players! Play Magic: the Gathering at the highest level while supporting your local game stores!
URL:https://f2ftour.com/event/f2f-tour-sealed-qualifier-face-to-face-games-toronto-4-invites-available-4/
LOCATION:Face to Face Games Toronto\, 1398 Danforth Ave\, Toronto\, Ontario\, M4J 1M9\, Canada
CATEGORIES:2026-27 Round 1 RCQ,4 Invites Available
ORGANIZER;CN="Face to Face Games Toronto":MAILTO:events@facetofacegames.com
END:VEVENT
BEGIN:VEVENT
DTSTART;TZID=America/Toronto:20260530T000000
DTEND;TZID=America/Toronto:20260530T235959
DTSTAMP:20260419T094522
CREATED:20260327T155437Z
LAST-MODIFIED:20260327T155438Z
UID:27284-1780099200-1780185599@f2ftour.com
SUMMARY:F2F Tour Modern Qualifier – La Boutique Mythique | Lévis (4 Invites Available)
DESCRIPTION:F2F Tour Qualifiers are events run by your local WPN game store that give out invites to the F2F Tour Championships to top players! Play Magic: the Gathering at the highest level while supporting your local game stores!
URL:https://f2ftour.com/event/f2f-tour-modern-qualifier-la-boutique-mythique-levis-4-invites-available/
LOCATION:La Boutique Mythique | Lévis\, 2170 Rte des Rivières\, Local 195\, Saint-Nicolas\, Quebec\, G6K 1A6\, Canada
CATEGORIES:2026-27 Round 1 RCQ,4 Invites Available
END:VEVENT
BEGIN:VEVENT
DTSTART;TZID=America/Toronto:20260530T000000
DTEND;TZID=America/Toronto:20260530T235959
DTSTAMP:20260419T094522
CREATED:20260327T161617Z
LAST-MODIFIED:20260327T161618Z
UID:27302-1780099200-1780185599@f2ftour.com
SUMMARY:F2F Tour Modern Qualifier – Hairy Tarantula (4 Invites Available)
DESCRIPTION:F2F Tour Qualifiers are events run by your local WPN game store that give out invites to the F2F Tour Championships to top players! Play Magic: the Gathering at the highest level while supporting your local game stores!
URL:https://f2ftour.com/event/f2f-tour-modern-qualifier-hairy-tarantula-4-invites-available/
LOCATION:Hairy Tarantula\, 3456 Yonge St\, Toronto\, Ontario\, M4N 2N4\, Canada
CATEGORIES:2026-27 Round 1 RCQ,4 Invites Available
END:VEVENT
BEGIN:VEVENT
DTSTART;TZID=America/Toronto:20260531T000000
DTEND;TZID=America/Toronto:20260531T235959
DTSTAMP:20260419T094522
CREATED:20260327T155219Z
LAST-MODIFIED:20260327T155220Z
UID:27280-1780185600-1780271999@f2ftour.com
SUMMARY:F2F Tour Modern Qualifier – La Boutique Mythique | Québec (4 Invites Available)
DESCRIPTION:F2F Tour Qualifiers are events run by your local WPN game store that give out invites to the F2F Tour Championships to top players! Play Magic: the Gathering at the highest level while supporting your local game stores!
URL:https://f2ftour.com/event/f2f-tour-modern-qualifier-la-boutique-mythique-quebec-4-invites-available/
LOCATION:La Boutique Mythique | Québec\, 354 Boul Charest E\, Quebec\, Quebec\, G1K 3H4\, Canada
CATEGORIES:2026-27 Round 1 RCQ,4 Invites Available
END:VEVENT
BEGIN:VEVENT
DTSTART;TZID=America/Toronto:20260531T000000
DTEND;TZID=America/Toronto:20260531T235959
DTSTAMP:20260419T094522
CREATED:20260401T180436Z
LAST-MODIFIED:20260401T180437Z
UID:27402-1780185600-1780271999@f2ftour.com
SUMMARY:F2F Tour Modern Qualifier – Chimera Gaming (4 Invites Available)
DESCRIPTION:F2F Tour Qualifiers are events run by your local WPN game store that give out invites to the F2F Tour Championships to top players! Play Magic: the Gathering at the highest level while supporting your local game stores!
URL:https://f2ftour.com/event/f2f-tour-modern-qualifier-chimera-gaming-4-invites-available-3/
LOCATION:Chimera Gaming\, 700 Strasburg rd unit 31\, Kitchener\, Ontario\, N2E 2M2\, Canada
CATEGORIES:2026-27 Round 1 RCQ,4 Invites Available
END:VEVENT
BEGIN:VEVENT
DTSTART;TZID=America/Toronto:20260606T000000
DTEND;TZID=America/Toronto:20260606T235959
DTSTAMP:20260419T094522
CREATED:20260327T152955Z
LAST-MODIFIED:20260327T152956Z
UID:27256-1780704000-1780790399@f2ftour.com
SUMMARY:F2F Tour Sealed Qualifier – Exor Games (4 Invites Available)
DESCRIPTION:F2F Tour Qualifiers are events run by your local WPN game store that give out invites to the F2F Tour Championships to top players! Play Magic: the Gathering at the highest level while supporting your local game stores!
URL:https://f2ftour.com/event/f2f-tour-sealed-qualifier-exor-games-4-invites-available-3/
LOCATION:Exor Games\, 51 Allen Street\, Charlottetown\, Prince Edward Island\, C1A 2V6\, Canada
CATEGORIES:2026-27 Round 1 RCQ,4 Invites Available
END:VEVENT
BEGIN:VEVENT
DTSTART;TZID=America/Toronto:20260606T000000
DTEND;TZID=America/Toronto:20260606T235959
DTSTAMP:20260419T094522
CREATED:20260327T154900Z
LAST-MODIFIED:20260327T154901Z
UID:27274-1780704000-1780790399@f2ftour.com
SUMMARY:F2F Tour Sealed Qualifier – Screen Free Games Sunridge Mall (1 Invite Available)
DESCRIPTION:F2F Tour Qualifiers are events run by your local WPN game store that give out invites to the F2F Tour Championships to top players! Play Magic: the Gathering at the highest level while supporting your local game stores!
URL:https://f2ftour.com/event/f2f-tour-sealed-qualifier-screen-free-games-sunridge-mall-1-invite-available/
LOCATION:Screen Free Games Sunridge Mall\, 2525 36 St NE #115A\, Calgary\, Alberta\, T1Y 5T4\, Canada
CATEGORIES:1 Invite Available,2026-27 Round 1 RCQ
END:VEVENT
BEGIN:VEVENT
DTSTART;TZID=America/Toronto:20260606T000000
DTEND;TZID=America/Toronto:20260606T235959
DTSTAMP:20260419T094522
CREATED:20260416T130921Z
LAST-MODIFIED:20260416T130922Z
UID:27441-1780704000-1780790399@f2ftour.com
SUMMARY:F2F Tour Sealed Qualifier – Mindgames Cataraqui (1 Invite Available)
DESCRIPTION:F2F Tour Qualifiers are events run by your local WPN game store that give out invites to the F2F Tour Championships to top players! Play Magic: the Gathering at the highest level while supporting your local game stores!
URL:https://f2ftour.com/event/f2f-tour-sealed-qualifier-mindgames-cataraqui-1-invite-available-4/
LOCATION:Mindgames Cataraqui Kingston\, 945 Gardiners Road Unit 49A\, Kingston\, Ontario\, Canada
CATEGORIES:1 Invite Available,2026-27 Round 1 RCQ
END:VEVENT
BEGIN:VEVENT
DTSTART;TZID=America/Toronto:20260613T000000
DTEND;TZID=America/Toronto:20260613T235959
DTSTAMP:20260419T094522
CREATED:20260327T170204Z
LAST-MODIFIED:20260327T170205Z
UID:27310-1781308800-1781395199@f2ftour.com
SUMMARY:F2F Tour Sealed Qualifier – Bowness Arts (4 Invites Available)
DESCRIPTION:F2F Tour Qualifiers are events run by your local WPN game store that give out invites to the F2F Tour Championships to top players! Play Magic: the Gathering at the highest level while supporting your local game stores!
URL:https://f2ftour.com/event/f2f-tour-sealed-qualifier-bowness-arts-4-invites-available/
LOCATION:Bowness Arts\, 6326 Bowness Rd NW\, Calgary\, Alberta\, T3B 0E5\, Canada
CATEGORIES:2026-27 Round 1 RCQ,4 Invites Available
END:VEVENT
BEGIN:VEVENT
DTSTART;TZID=America/Toronto:20260613T000000
DTEND;TZID=America/Toronto:20260613T235959
DTSTAMP:20260419T094522
CREATED:20260327T172636Z
LAST-MODIFIED:20260327T172636Z
UID:27334-1781308800-1781395199@f2ftour.com
SUMMARY:F2F Tour Modern Qualifier – Atlas Collectibles (4 Invites Available)
DESCRIPTION:F2F Tour Qualifiers are events run by your local WPN game store that give out invites to the F2F Tour Championships to top players! Play Magic: the Gathering at the highest level while supporting your local game stores!
URL:https://f2ftour.com/event/f2f-tour-modern-qualifier-atlas-collectibles-4-invites-available-2/
LOCATION:Atlas Collectables\, 354 King St N\, Waterloo\, Ontario\, N2J 2Z2\, Canada
CATEGORIES:2026-27 Round 1 RCQ,4 Invites Available
END:VEVENT
BEGIN:VEVENT
DTSTART;TZID=America/Toronto:20260614T000000
DTEND;TZID=America/Toronto:20260614T235959
DTSTAMP:20260419T094522
CREATED:20260401T180503Z
LAST-MODIFIED:20260401T180504Z
UID:27401-1781395200-1781481599@f2ftour.com
SUMMARY:F2F Tour Modern Qualifier – Chimera Gaming (4 Invites Available)
DESCRIPTION:F2F Tour Qualifiers are events run by your local WPN game store that give out invites to the F2F Tour Championships to top players! Play Magic: the Gathering at the highest level while supporting your local game stores!
URL:https://f2ftour.com/event/f2f-tour-modern-qualifier-chimera-gaming-4-invites-available-4/
LOCATION:Chimera Gaming\, 700 Strasburg rd unit 31\, Kitchener\, Ontario\, N2E 2M2\, Canada
CATEGORIES:2026-27 Round 1 RCQ,4 Invites Available
END:VEVENT
BEGIN:VEVENT
DTSTART;TZID=America/Toronto:20260627T000000
DTEND;TZID=America/Toronto:20260627T235959
DTSTAMP:20260419T094522
CREATED:20260327T153043Z
LAST-MODIFIED:20260410T201250Z
UID:27258-1782518400-1782604799@f2ftour.com
SUMMARY:F2F Tour Modern Qualifier – Exor Games (4 Invites Available)
DESCRIPTION:F2F Tour Qualifiers are events run by your local WPN game store that give out invites to the F2F Tour Championships to top players! Play Magic: the Gathering at the highest level while supporting your local game stores!
URL:https://f2ftour.com/event/f2f-tour-modern-qualifier-exor-games-4-invites-available/
LOCATION:Exor Games\, 51 Allen Street\, Charlottetown\, Prince Edward Island\, C1A 2V6\, Canada
CATEGORIES:2026-27 Round 1 RCQ,4 Invites Available
END:VEVENT
BEGIN:VEVENT
DTSTART;TZID=America/Toronto:20260627T000000
DTEND;TZID=America/Toronto:20260627T235959
DTSTAMP:20260419T094522
CREATED:20260327T155756Z
LAST-MODIFIED:20260327T155758Z
UID:27290-1782518400-1782604799@f2ftour.com
SUMMARY:F2F Tour Sealed Qualifier – Wizard's Tower (4 Invites Available)
DESCRIPTION:F2F Tour Qualifiers are events run by your local WPN game store that give out invites to the F2F Tour Championships to top players! Play Magic: the Gathering at the highest level while supporting your local game stores!
URL:https://f2ftour.com/event/f2f-tour-sealed-qualifier-wizards-tower-4-invites-available/
LOCATION:Wizard’s Tower\, 1-80 Marketplace Ave\, Ottawa\, Ontario\, K2J 5G3\, Canada
CATEGORIES:2026-27 Round 1 RCQ,4 Invites Available
END:VEVENT
BEGIN:VEVENT
DTSTART;TZID=America/Toronto:20260627T000000
DTEND;TZID=America/Toronto:20260627T235959
DTSTAMP:20260419T094522
CREATED:20260327T160129Z
LAST-MODIFIED:20260327T160130Z
UID:27294-1782518400-1782604799@f2ftour.com
SUMMARY:F2F Tour Sealed Qualifier – Skies the Limit Fireworks & Toys (1 Invite Available)
DESCRIPTION:F2F Tour Qualifiers are events run by your local WPN game store that give out invites to the F2F Tour Championships to top players! Play Magic: the Gathering at the highest level while supporting your local game stores!
URL:https://f2ftour.com/event/f2f-tour-sealed-qualifier-skies-the-limit-fireworks-toys-1-invite-available-2/
LOCATION:Skies the Limit Fireworks & Toys\, 32 Betts Ave\, Yorkton\, Saskatchewan\, S3N 1J6\, Canada
CATEGORIES:1 Invite Available,2026-27 Round 1 RCQ
END:VEVENT
BEGIN:VEVENT
DTSTART;TZID=America/Toronto:20260627T000000
DTEND;TZID=America/Toronto:20260627T235959
DTSTAMP:20260419T094522
CREATED:20260401T152804Z
LAST-MODIFIED:20260401T152805Z
UID:27365-1782518400-1782604799@f2ftour.com
SUMMARY:F2F Tour Modern Qualifier – Dungeon Comics & Cards (4 Invites Available)
DESCRIPTION:F2F Tour Qualifiers are events run by your local WPN game store that give out invites to the F2F Tour Championships to top players! Play Magic: the Gathering at the highest level while supporting your local game stores!
URL:https://f2ftour.com/event/f2f-tour-modern-qualifier-dungeon-comics-cards-4-invites-available/
LOCATION:Dungeon Comics & Cards Oakville\, 447 Speers Rd\, Oakville\, Ontario\, L6K 3S7\, Canada
CATEGORIES:2026-27 Round 1 RCQ,4 Invites Available
END:VEVENT
BEGIN:VEVENT
DTSTART;TZID=America/Toronto:20260704T000000
DTEND;TZID=America/Toronto:20260704T235959
DTSTAMP:20260419T094522
CREATED:20260327T161528Z
LAST-MODIFIED:20260327T161529Z
UID:27300-1783123200-1783209599@f2ftour.com
SUMMARY:F2F Tour Sealed Qualifier – Hairy Tarantula (4 Invites Available)
DESCRIPTION:F2F Tour Qualifiers are events run by your local WPN game store that give out invites to the F2F Tour Championships to top players! Play Magic: the Gathering at the highest level while supporting your local game stores!
URL:https://f2ftour.com/event/f2f-tour-sealed-qualifier-hairy-tarantula-4-invites-available-4/
LOCATION:Hairy Tarantula\, 3456 Yonge St\, Toronto\, Ontario\, M4N 2N4\, Canada
CATEGORIES:2026-27 Round 1 RCQ,4 Invites Available
END:VEVENT
BEGIN:VEVENT
DTSTART;TZID=America/Toronto:20260704T000000
DTEND;TZID=America/Toronto:20260704T235959
DTSTAMP:20260419T094522
CREATED:20260401T153526Z
LAST-MODIFIED:20260401T153527Z
UID:27373-1783123200-1783209599@f2ftour.com
SUMMARY:F2F Tour Modern Qualifier – Game Master's Emporium (1 Invite Available)
DESCRIPTION:F2F Tour Qualifiers are events run by your local WPN game store that give out invites to the F2F Tour Championships to top players! Play Magic: the Gathering at the highest level while supporting your local game stores!
URL:https://f2ftour.com/event/f2f-tour-modern-qualifier-game-masters-emporium-1-invite-available/
LOCATION:Game Master’s Emporium\, 55 St Clair St\, Chatham\, Ontario\, N7L 3H8
CATEGORIES:1 Invite Available,2026-27 Round 1 RCQ
END:VEVENT
END:VCALENDAR